BEGIN:VCALENDAR
VERSION:2.0
PRODID:-//Electronic Control Services - ECPv6.15.20//NONSGML v1.0//EN
CALSCALE:GREGORIAN
METHOD:PUBLISH
X-ORIGINAL-URL:https://improvemaintenance.com
X-WR-CALDESC:Events for Electronic Control Services
REFRESH-INTERVAL;VALUE=DURATION:PT1H
X-Robots-Tag:noindex
X-PUBLISHED-TTL:PT1H
BEGIN:VTIMEZONE
TZID:UTC
BEGIN:STANDARD
TZOFFSETFROM:+0000
TZOFFSETTO:+0000
TZNAME:UTC
DTSTART:20210101T000000
END:STANDARD
END:VTIMEZONE
BEGIN:VEVENT
DTSTART;TZID=UTC:20221017T073000
DTEND;TZID=UTC:20221020T163000
DTSTAMP:20260423T160936
CREATED:20220915T202944Z
LAST-MODIFIED:20220915T203012Z
UID:62-1665991800-1666283400@improvemaintenance.com
SUMMARY:Automation Bootcamp
DESCRIPTION:Electrical control Troubleshooting Training
URL:https://improvemaintenance.com/event/automation-bootcamp/
LOCATION:ECS Classroom\, 1301 Redding dr\, High Point\, NC\, 27260\, United States
CATEGORIES:Classroom Training
ATTACH;FMTTYPE=image/jpeg:https://improvemaintenance.com/wp-content/uploads/2022/09/20220915_153104-scaled.jpg
END:VEVENT
END:VCALENDAR